

BEGIN:VCALENDAR
VERSION:2.0
PRODID:-//UDC Suisse //NONSGML Events //EN
CALSCALE:GREGORIAN
X-WR-CALNAME:UDC Suisse
BEGIN:VEVENT
CREATED:20221212T154243Z
UID:100323
DTEND:20221215T210000
DTSTART:20221215T200000
DTSTAMP:20260420T172029Z
LOCATION:Burgdorf 3400\, Markthalle
DESCRIPTION:
SUMMARY:UDC proche de vous avec Conseiller national Andreas Aebi
ORGANIZER:
URL;VALUE=URI:https://www.udc.ch/actualites/agenda/udc-proche-de-vous-avec-conseiller-national-andreas-aebi/
TRANSP:OPAQUE
END:VEVENT
END:VCALENDAR
