

BEGIN:VCALENDAR
VERSION:2.0
PRODID:-//UDC Suisse //NONSGML Events //EN
CALSCALE:GREGORIAN
X-WR-CALNAME:UDC Suisse
BEGIN:VEVENT
CREATED:20221212T154243Z
UID:100324
DTEND:20221218T153000
DTSTART:20221218T093000
DTSTAMP:20260420T171618Z
LOCATION:Zofingen 4800\, Chalethütte\, Altstadt
DESCRIPTION:
SUMMARY:UDC proche de vous avec Conseillère nationale Martin Bircher
ORGANIZER:
URL;VALUE=URI:https://www.udc.ch/actualites/agenda/udc-proche-de-vous-avec-conseillere-nationale-martin-bircher/
TRANSP:OPAQUE
END:VEVENT
END:VCALENDAR
