

BEGIN:VCALENDAR
VERSION:2.0
PRODID:-//UDC Suisse //NONSGML Events //EN
CALSCALE:GREGORIAN
X-WR-CALNAME:UDC Suisse
BEGIN:VEVENT
CREATED:20221212T154243Z
UID:100325
DTEND:20221219T200000
DTSTART:20221219T193000
DTSTAMP:20260420T194141Z
LOCATION:Aarau 5000\, Gasthof Schützen
DESCRIPTION:
SUMMARY:UDC proche de vous avec Conseiller national Alois Huber et Conseiller national Thomas Burgherr
ORGANIZER:
URL;VALUE=URI:https://www.udc.ch/actualites/agenda/udc-proche-de-vous-avec-conseiller-national-alois-huber-et-conseiller-national-thomas-burgherr/
TRANSP:OPAQUE
END:VEVENT
END:VCALENDAR
