

BEGIN:VCALENDAR
VERSION:2.0
PRODID:-//UDC Suisse //NONSGML Events //EN
CALSCALE:GREGORIAN
X-WR-CALNAME:UDC Suisse
BEGIN:VEVENT
CREATED:20221212T154244Z
UID:100328
DTEND:20230126T200000
DTSTART:20230126T193000
DTSTAMP:20260421T091718Z
LOCATION:Freienbach 8807\, Restaurant Ried\, Kantonsstrasse 161
DESCRIPTION:
SUMMARY:UDC proche de vous avec Conseiller national Marcel Dettling
ORGANIZER:
URL;VALUE=URI:https://www.udc.ch/actualites/agenda/udc-proche-de-vous-avec-conseiller-national-marcel-dettling/
TRANSP:OPAQUE
END:VEVENT
END:VCALENDAR
