

BEGIN:VCALENDAR
VERSION:2.0
PRODID:-//UDC Suisse //NONSGML Events //EN
CALSCALE:GREGORIAN
X-WR-CALNAME:UDC Suisse
BEGIN:VEVENT
CREATED:20221212T154244Z
UID:100330
DTEND:20221129T200000
DTSTART:20221129T183000
DTSTAMP:20260420T171653Z
LOCATION:Männedorf 8708\, Restaurant Obstgarten
DESCRIPTION:
SUMMARY:UDC proche de vous avec Conseiller national Benjamin Fischer
ORGANIZER:
URL;VALUE=URI:https://www.udc.ch/actualites/agenda/udc-proche-de-vous-avec-conseiller-national-benjamin-fischer/
TRANSP:OPAQUE
END:VEVENT
END:VCALENDAR
