

BEGIN:VCALENDAR
VERSION:2.0
PRODID:-//UDC Suisse //NONSGML Events //EN
CALSCALE:GREGORIAN
X-WR-CALNAME:UDC Suisse
BEGIN:VEVENT
CREATED:20221212T154244Z
UID:100331
DTEND:20221217T110000
DTSTART:20221217T100000
DTSTAMP:20260420T202158Z
LOCATION:Ebnat-Kappel 9642\, Landgasthof Sonne\, Haus der Freiheit \,Wintersberg
DESCRIPTION:
SUMMARY:UDC proche de vous avec Conseillère nationale Esther Friedli
ORGANIZER:
URL;VALUE=URI:https://www.udc.ch/actualites/agenda/udc-proche-de-vous-avec-conseillere-nationale-esther-friedli/
TRANSP:OPAQUE
END:VEVENT
END:VCALENDAR
