

BEGIN:VCALENDAR
VERSION:2.0
PRODID:-//UDC Suisse //NONSGML Events //EN
CALSCALE:GREGORIAN
X-WR-CALNAME:UDC Suisse
BEGIN:VEVENT
CREATED:20221212T154244Z
UID:100332
DTEND:20230124T200000
DTSTART:20230124T193000
DTSTAMP:20260421T004051Z
LOCATION:Huttwil 4950
DESCRIPTION:
SUMMARY:UDC proche de vous avec Conseiller national Andreas Gafner
ORGANIZER:
URL;VALUE=URI:https://www.udc.ch/actualites/agenda/udc-proche-de-vous-avec-conseiller-national-andreas-gafner/
TRANSP:OPAQUE
END:VEVENT
END:VCALENDAR
