

BEGIN:VCALENDAR
VERSION:2.0
PRODID:-//UDC Suisse //NONSGML Events //EN
CALSCALE:GREGORIAN
X-WR-CALNAME:UDC Suisse
BEGIN:VEVENT
CREATED:20221212T154244Z
UID:100333
DTEND:20221112T140000
DTSTART:20221112T110000
DTSTAMP:20260420T194430Z
LOCATION:Schönbühl 3322\, Zentrumsplatz Schönbühl\, Märitstand
DESCRIPTION:
SUMMARY:UDC proche de vous avec Conseillère nationale Andrea Geissbühler
ORGANIZER:
URL;VALUE=URI:https://www.udc.ch/actualites/agenda/udc-proche-de-vous-avec-conseillere-nationale-andrea-geissbuhler/
TRANSP:OPAQUE
END:VEVENT
END:VCALENDAR
