

BEGIN:VCALENDAR
VERSION:2.0
PRODID:-//UDC Suisse //NONSGML Events //EN
CALSCALE:GREGORIAN
X-WR-CALNAME:UDC Suisse
BEGIN:VEVENT
CREATED:20221212T154244Z
UID:100336
DTEND:20221220T200000
DTSTART:20221220T190000
DTSTAMP:20260420T194208Z
LOCATION:Berikon 8965\, Restaurant Stalden
DESCRIPTION:
SUMMARY:UDC proche de vous avec Conseiller national Andreas Glarner
ORGANIZER:
URL;VALUE=URI:https://www.udc.ch/actualites/agenda/udc-proche-de-vous-avec-conseiller-national-andreas-glarner/
TRANSP:OPAQUE
END:VEVENT
END:VCALENDAR
