

BEGIN:VCALENDAR
VERSION:2.0
PRODID:-//UDC Suisse //NONSGML Events //EN
CALSCALE:GREGORIAN
X-WR-CALNAME:UDC Suisse
BEGIN:VEVENT
CREATED:20221212T154244Z
UID:100337
DTEND:20221219T210000
DTSTART:20221219T200000
DTSTAMP:20260420T171950Z
LOCATION:Thun 3608\, Restaurant Kreuz\, Allmendingenstrasse 6
DESCRIPTION:
SUMMARY:UDC proche de vous avec Conseiller national Lars Guggisberg
ORGANIZER:
URL;VALUE=URI:https://www.udc.ch/actualites/agenda/udc-proche-de-vous-avec-conseiller-national-lars-guggisberg/
TRANSP:OPAQUE
END:VEVENT
END:VCALENDAR
