

BEGIN:VCALENDAR
VERSION:2.0
PRODID:-//UDC Suisse //NONSGML Events //EN
CALSCALE:GREGORIAN
X-WR-CALNAME:UDC Suisse
BEGIN:VEVENT
CREATED:20221212T154244Z
UID:100339
DTEND:20230117T200000
DTSTART:20230117T193000
DTSTAMP:20260420T194801Z
LOCATION:Bonstetten 8906\, Gemeindesaal
DESCRIPTION:
SUMMARY:UDC proche de vous avec Conseiller national Martin Haab
ORGANIZER:
URL;VALUE=URI:https://www.udc.ch/actualites/agenda/udc-proche-de-vous-avec-conseiller-national-martin-haab/
TRANSP:OPAQUE
END:VEVENT
END:VCALENDAR
