

BEGIN:VCALENDAR
VERSION:2.0
PRODID:-//UDC Suisse //NONSGML Events //EN
CALSCALE:GREGORIAN
X-WR-CALNAME:UDC Suisse
BEGIN:VEVENT
CREATED:20221212T154244Z
UID:100340
DTEND:20221222T200000
DTSTART:20221222T180000
DTSTAMP:20260420T171752Z
LOCATION:Zürich 8048\, Benedict Schule\, Vulkanstrasse 106
DESCRIPTION:
SUMMARY:UDC proche de vous avec Conseiller national Alfred Heer et Conseiller d&rsquo\;État Ernst Stocker
ORGANIZER:
URL;VALUE=URI:https://www.udc.ch/actualites/agenda/udc-proche-de-vous-avec-conseiller-national-alfred-heer-et-conseiller-detat-ernst-stocker/
TRANSP:OPAQUE
END:VEVENT
END:VCALENDAR
