

BEGIN:VCALENDAR
VERSION:2.0
PRODID:-//UDC Suisse //NONSGML Events //EN
CALSCALE:GREGORIAN
X-WR-CALNAME:UDC Suisse
BEGIN:VEVENT
CREATED:20221212T154244Z
UID:100342
DTEND:20221217T120000
DTSTART:20221217T110000
DTSTAMP:20260420T171448Z
LOCATION:Birmenstorf 5413\, Gasthof Adler
DESCRIPTION:
SUMMARY:UDC proche de vous avec Conseillère nationale Stefanie Heimgartner\, Conseiller national Andreas Glarner et Conseiller national Benjamin Giezendanner
ORGANIZER:
URL;VALUE=URI:https://www.udc.ch/actualites/agenda/udc-proche-de-vous-avec-conseillere-nationale-stefanie-heimgartner-conseiller-national-andreas-glarner-et-conseiller-national-benjamin-giezendanner/
TRANSP:OPAQUE
END:VEVENT
END:VCALENDAR
