

BEGIN:VCALENDAR
VERSION:2.0
PRODID:-//UDC Suisse //NONSGML Events //EN
CALSCALE:GREGORIAN
X-WR-CALNAME:UDC Suisse
BEGIN:VEVENT
CREATED:20221212T154245Z
UID:100344
DTEND:20221202T200000
DTSTART:20221202T190000
DTSTAMP:20260420T190207Z
LOCATION:Bern-Bümpliz 3018\, Restaurant Kleefeld
DESCRIPTION:
SUMMARY:UDC proche de vous avec Conseiller national Erich Hess
ORGANIZER:
URL;VALUE=URI:https://www.udc.ch/actualites/agenda/udc-proche-de-vous-avec-conseiller-national-erich-hess/
TRANSP:OPAQUE
END:VEVENT
END:VCALENDAR
