

BEGIN:VCALENDAR
VERSION:2.0
PRODID:-//UDC Suisse //NONSGML Events //EN
CALSCALE:GREGORIAN
X-WR-CALNAME:UDC Suisse
BEGIN:VEVENT
CREATED:20221212T154245Z
UID:100345
DTEND:20230125T190000
DTSTART:20230125T180000
DTSTAMP:20260420T194026Z
LOCATION:Bern 3011\, Hotel Kreuz
DESCRIPTION:
SUMMARY:UDC proche de vous avec Conseiller national Erich Hess
ORGANIZER:
URL;VALUE=URI:https://www.udc.ch/actualites/agenda/udc-proche-de-vous-avec-conseiller-national-erich-hess-2/
TRANSP:OPAQUE
END:VEVENT
END:VCALENDAR
