

BEGIN:VCALENDAR
VERSION:2.0
PRODID:-//UDC Suisse //NONSGML Events //EN
CALSCALE:GREGORIAN
X-WR-CALNAME:UDC Suisse
BEGIN:VEVENT
CREATED:20221212T154245Z
UID:100348
DTEND:20221221T210000
DTSTART:20221221T200000
DTSTAMP:20260420T212627Z
LOCATION:Bellinzona 6500\, Hotel Unione
DESCRIPTION:
SUMMARY:UDC proche de vous avec Conseiller aux Etats Marco Chiesa et Conseiller national Piero Marchesi
ORGANIZER:
URL;VALUE=URI:https://www.udc.ch/actualites/agenda/udc-proche-de-vous-avec-conseiller-aux-etats-marco-chiesa-et-conseiller-national-piero-marchesi-2/
TRANSP:OPAQUE
END:VEVENT
END:VCALENDAR
