

BEGIN:VCALENDAR
VERSION:2.0
PRODID:-//UDC Suisse //NONSGML Events //EN
CALSCALE:GREGORIAN
X-WR-CALNAME:UDC Suisse
BEGIN:VEVENT
CREATED:20221212T154245Z
UID:100351
DTEND:20230115T110000
DTSTART:20230115T100000
DTSTAMP:20260420T225223Z
LOCATION:Wolfhausen 8633\, Geissbergsaal Wolfhausen\, Schulstrasse 1
DESCRIPTION:
SUMMARY:UDC proche de vous avec Conseiller national Thomas Matter
ORGANIZER:
URL;VALUE=URI:https://www.udc.ch/actualites/agenda/udc-proche-de-vous-avec-conseiller-national-thomas-matter-2/
TRANSP:OPAQUE
END:VEVENT
END:VCALENDAR
