

BEGIN:VCALENDAR
VERSION:2.0
PRODID:-//UDC Suisse //NONSGML Events //EN
CALSCALE:GREGORIAN
X-WR-CALNAME:UDC Suisse
BEGIN:VEVENT
CREATED:20221212T154245Z
UID:100352
DTEND:20230113T210000
DTSTART:20230113T200000
DTSTAMP:20260420T184253Z
LOCATION:Fetigny 1532\, Auberge communale
DESCRIPTION:
SUMMARY:UDC proche de vous avec Conseiller national Pierre-André Page
ORGANIZER:
URL;VALUE=URI:https://www.udc.ch/actualites/agenda/udc-proche-de-vous-avec-conseiller-national-pierre-andre-page-2/
TRANSP:OPAQUE
END:VEVENT
END:VCALENDAR
