

BEGIN:VCALENDAR
VERSION:2.0
PRODID:-//UDC Suisse //NONSGML Events //EN
CALSCALE:GREGORIAN
X-WR-CALNAME:UDC Suisse
BEGIN:VEVENT
CREATED:20221212T154245Z
UID:100353
DTEND:20230124T200000
DTSTART:20230124T190000
DTSTAMP:20260420T193733Z
LOCATION:Corcelles-Près-Payerne 1562\, Grande salle
DESCRIPTION:
SUMMARY:UDC proche de vous avec Conseiller national Pierre-André Page
ORGANIZER:
URL;VALUE=URI:https://www.udc.ch/actualites/agenda/udc-proche-de-vous-avec-conseiller-national-pierre-andre-page-3/
TRANSP:OPAQUE
END:VEVENT
END:VCALENDAR
