

BEGIN:VCALENDAR
VERSION:2.0
PRODID:-//UDC Suisse //NONSGML Events //EN
CALSCALE:GREGORIAN
X-WR-CALNAME:UDC Suisse
BEGIN:VEVENT
CREATED:20221212T154245Z
UID:100354
DTEND:20230109T210000
DTSTART:20230109T200000
DTSTAMP:20260421T094716Z
LOCATION:Gossau 9200\, Café Koller
DESCRIPTION:
SUMMARY:UDC proche de vous avec Conseiller national Mike Egger\, Conseiller national Lukas Reimann et Conseiller national David Zuberbühler
ORGANIZER:
URL;VALUE=URI:https://www.udc.ch/actualites/agenda/udc-proche-de-vous-avec-conseiller-national-mike-egger-conseiller-national-lukas-reimann-et-conseiller-national-david-zuberbuhler-2/
TRANSP:OPAQUE
END:VEVENT
END:VCALENDAR
