

BEGIN:VCALENDAR
VERSION:2.0
PRODID:-//UDC Suisse //NONSGML Events //EN
CALSCALE:GREGORIAN
X-WR-CALNAME:UDC Suisse
BEGIN:VEVENT
CREATED:20221212T154245Z
UID:100355
DTEND:20230113T190000
DTSTART:20230113T183000
DTSTAMP:20260421T023137Z
LOCATION:Sarnen 6060\, Restaurant Metzgern (Saal)
DESCRIPTION:
SUMMARY:UDC proche de vous avec Conseillère nationale Monika Rüegger
ORGANIZER:
URL;VALUE=URI:https://www.udc.ch/actualites/agenda/udc-proche-de-vous-avec-conseillere-nationale-monika-ruegger/
TRANSP:OPAQUE
END:VEVENT
END:VCALENDAR
