

BEGIN:VCALENDAR
VERSION:2.0
PRODID:-//UDC Suisse //NONSGML Events //EN
CALSCALE:GREGORIAN
X-WR-CALNAME:UDC Suisse
BEGIN:VEVENT
CREATED:20221212T154245Z
UID:100356
DTEND:20230109T190000
DTSTART:20230109T183000
DTSTAMP:20260420T193748Z
LOCATION:Zollikon 8702\, Kantine im Eggä\, Gustav-Maurer-Strasse 10
DESCRIPTION:
SUMMARY:UDC proche de vous avec Conseiller national Gregor Rutz
ORGANIZER:
URL;VALUE=URI:https://www.udc.ch/actualites/agenda/udc-proche-de-vous-avec-conseiller-national-gregor-rutz/
TRANSP:OPAQUE
END:VEVENT
END:VCALENDAR
