

BEGIN:VCALENDAR
VERSION:2.0
PRODID:-//UDC Suisse //NONSGML Events //EN
CALSCALE:GREGORIAN
X-WR-CALNAME:UDC Suisse
BEGIN:VEVENT
CREATED:20221212T154245Z
UID:100358
DTEND:20230113T180000
DTSTART:20230113T173000
DTSTAMP:20260423T090738Z
LOCATION:Knonau 8934\, British Classic Cars Eventroom\, Hasentalstrasse 3
DESCRIPTION:
SUMMARY:UDC proche de vous avec Conseiller national Gregor Rutz et les candidats au Grand Conseil du district d&rsquo\;Affoltern
ORGANIZER:
URL;VALUE=URI:https://www.udc.ch/actualites/agenda/udc-proche-de-vous-avec-conseiller-national-gregor-rutz-et-les-candidats-au-grand-conseil-du-district-daffoltern/
TRANSP:OPAQUE
END:VEVENT
END:VCALENDAR
