

BEGIN:VCALENDAR
VERSION:2.0
PRODID:-//UDC Suisse //NONSGML Events //EN
CALSCALE:GREGORIAN
X-WR-CALNAME:UDC Suisse
BEGIN:VEVENT
CREATED:20221212T154245Z
UID:100359
DTEND:20230301T200000
DTSTART:20230301T190000
DTSTAMP:20260420T214127Z
LOCATION:Entlebuch 6162\, Jagdhof Felder\, Ebnet 41
DESCRIPTION:
SUMMARY:UDC proche de vous avec Conseiller aux Etats Werner Salzmann
ORGANIZER:
URL;VALUE=URI:https://www.udc.ch/actualites/agenda/udc-proche-de-vous-avec-conseiller-aux-etats-werner-salzman/
TRANSP:OPAQUE
END:VEVENT
END:VCALENDAR
