

BEGIN:VCALENDAR
VERSION:2.0
PRODID:-//UDC Suisse //NONSGML Events //EN
CALSCALE:GREGORIAN
X-WR-CALNAME:UDC Suisse
BEGIN:VEVENT
CREATED:20221212T154245Z
UID:100360
DTEND:20230118T200000
DTSTART:20230118T190000
DTSTAMP:20260420T190953Z
LOCATION:Aesch BL 4147\, MZH Löhrenacker
DESCRIPTION:
SUMMARY:UDC proche de vous avec Conseillère nationale Sandra Sollberger et Conseiller national Thomas de Courten
ORGANIZER:
URL;VALUE=URI:https://www.udc.ch/actualites/agenda/udc-proche-de-vous-avec-conseillere-nationale-sandra-sollberger-et-conseiller-national-thomas-de-courten/
TRANSP:OPAQUE
END:VEVENT
END:VCALENDAR
