

BEGIN:VCALENDAR
VERSION:2.0
PRODID:-//UDC Suisse //NONSGML Events //EN
CALSCALE:GREGORIAN
X-WR-CALNAME:UDC Suisse
BEGIN:VEVENT
CREATED:20221212T154246Z
UID:100362
DTEND:20230107T120000
DTSTART:20230107T110000
DTSTAMP:20260420T205601Z
LOCATION:Sirnach 8370\, Hawle Armaturen AG\, Hawlestrasse 1
DESCRIPTION:
SUMMARY:UDC proche de vous avec Conseillère nationale Diana Gutjahr\, Conseillère nationale Verena Herzog\, Conseiller national Manuel Strupler et Conseiller aux Etats Jakob Stark
ORGANIZER:
URL;VALUE=URI:https://www.udc.ch/actualites/agenda/udc-proche-de-vous-avec-conseillere-nationale-diana-gutjahr-conseillere-nationale-verena-herzog-conseiller-national-manuel-strupler-et-conseiller-aux-etats-jakob-stark-4/
TRANSP:OPAQUE
END:VEVENT
END:VCALENDAR
