

BEGIN:VCALENDAR
VERSION:2.0
PRODID:-//UDC Suisse //NONSGML Events //EN
CALSCALE:GREGORIAN
X-WR-CALNAME:UDC Suisse
BEGIN:VEVENT
CREATED:20221212T154246Z
UID:100363
DTEND:20230112T190000
DTSTART:20230112T183000
DTSTAMP:20260420T202316Z
LOCATION:Zürich 8038\, Mellow Eventlocation\, Albissstrasse 84
DESCRIPTION:
SUMMARY:UDC proche de vous avec Conseiller national Gregor Rutz\, Conseiller national Alfred Heer et Conseiller national Mauro Tuena
ORGANIZER:
URL;VALUE=URI:https://www.udc.ch/actualites/agenda/udc-proche-de-vous-avec-conseiller-national-gregor-rutz-conseiller-national-alfred-heer-et-conseiller-national-mauro-tuena-2/
TRANSP:OPAQUE
END:VEVENT
END:VCALENDAR
