

BEGIN:VCALENDAR
VERSION:2.0
PRODID:-//UDC Suisse //NONSGML Events //EN
CALSCALE:GREGORIAN
X-WR-CALNAME:UDC Suisse
BEGIN:VEVENT
CREATED:20221212T154246Z
UID:100364
DTEND:20230206T210000
DTSTART:20230206T200000
DTSTAMP:20260420T190328Z
LOCATION:Oberburg 3414\, Restaurant Steingrube
DESCRIPTION:
SUMMARY:UDC proche de vous avec Conseillère nationale Nadja Umbricht Pieren
ORGANIZER:
URL;VALUE=URI:https://www.udc.ch/actualites/agenda/udc-proche-de-vous-avec-conseillere-nationale-nadja-umbricht-pieren/
TRANSP:OPAQUE
END:VEVENT
END:VCALENDAR
