

BEGIN:VCALENDAR
VERSION:2.0
PRODID:-//UDC Suisse //NONSGML Events //EN
CALSCALE:GREGORIAN
X-WR-CALNAME:UDC Suisse
BEGIN:VEVENT
CREATED:20221212T154246Z
UID:100366
DTEND:20230108T110000
DTSTART:20230108T103000
DTSTAMP:20260420T152835Z
LOCATION:Nunningen 4208\, Restaurant Roderis
DESCRIPTION:
SUMMARY:UDC proche de vous avec Conseiller national Christian Imark et Conseiller national Walter Wobmann
ORGANIZER:
URL;VALUE=URI:https://www.udc.ch/actualites/agenda/udc-proche-de-vous-avec-conseiller-national-christian-imark-et-conseiller-national-walter-wobmann-2/
TRANSP:OPAQUE
END:VEVENT
END:VCALENDAR
