

BEGIN:VCALENDAR
VERSION:2.0
PRODID:-//UDC Suisse //NONSGML Events //EN
CALSCALE:GREGORIAN
X-WR-CALNAME:UDC Suisse
BEGIN:VEVENT
CREATED:20221215T085054Z
UID:100434
DTEND:20230102T120000
DTSTART:20230102T110000
DTSTAMP:20260420T184252Z
LOCATION:Simplon-Halle Brig\, Rhonesandstrasse 18A
DESCRIPTION:
SUMMARY:Traditionelle Berchtoldstag-Veranstaltung
ORGANIZER:
URL;VALUE=URI:https://www.udc.ch/actualites/agenda/traditionelle-berchtoldstag-veranstaltung/
TRANSP:OPAQUE
END:VEVENT
END:VCALENDAR
