

BEGIN:VCALENDAR
VERSION:2.0
PRODID:-//UDC Suisse //NONSGML Events //EN
CALSCALE:GREGORIAN
X-WR-CALNAME:UDC Suisse
BEGIN:VEVENT
CREATED:20221215T145213Z
UID:100461
DTEND:20230111T200000
DTSTART:20230111T193000
DTSTAMP:20260420T171548Z
LOCATION:salle de réunion de la fromagerie du Gros de Vaud à Vuarrens
DESCRIPTION:
SUMMARY:UDC proche de vous avec Conseiller national Michael Buffat\, Jean-Pierre Grin et Jaques Nicolet
ORGANIZER:
URL;VALUE=URI:https://www.udc.ch/actualites/agenda/udc-proche-de-vous-avec-conseiller-national-michael-buffat-jeam-pierre-grin-et-jaques-nicolet/
TRANSP:OPAQUE
END:VEVENT
END:VCALENDAR
