

BEGIN:VCALENDAR
VERSION:2.0
PRODID:-//UDC Suisse //NONSGML Events //EN
CALSCALE:GREGORIAN
X-WR-CALNAME:UDC Suisse
BEGIN:VEVENT
CREATED:20221221T190357Z
UID:100581
DTEND:20230123T190000
DTSTART:20230123T184500
DTSTAMP:20260420T134602Z
LOCATION:Restaurant Eichmühle\, Hettlingen
DESCRIPTION:
SUMMARY:UDC proche de vous avec Conseillère nationale Therese Schläpfer\, Conseiller national Alfred Heer et Conseiller national Thomas Matter
ORGANIZER:
URL;VALUE=URI:https://www.udc.ch/actualites/agenda/udc-proche-de-vous-avec-conseillere-nationale-therese-schlapfer-conseiller-national-alfred-heer-et-conseiller-national-thomas-matter/
TRANSP:OPAQUE
END:VEVENT
END:VCALENDAR
