

BEGIN:VCALENDAR
VERSION:2.0
PRODID:-//UDC Suisse //NONSGML Events //EN
CALSCALE:GREGORIAN
X-WR-CALNAME:UDC Suisse
BEGIN:VEVENT
CREATED:20171205T104038Z
UID:10071
DTEND:20171206T134500
DTSTART:20171206T123000
DTSTAMP:20260421T004037Z
LOCATION:Casinoplatz\, Berne
DESCRIPTION: &gt; Annonce (PDF) &gt; Plan de situation (PDF)
SUMMARY:25 ans de NON à l&rsquo\;EEE/UE: Apéritif avec le Groupe UDC
ORGANIZER:
URL;VALUE=URI:https://www.udc.ch/actualites/agenda/25-ans-de-non-a-leeeue-aperitif-avec-le-groupe-udc/
TRANSP:OPAQUE
END:VEVENT
END:VCALENDAR
