

BEGIN:VCALENDAR
VERSION:2.0
PRODID:-//UDC Suisse //NONSGML Events //EN
CALSCALE:GREGORIAN
X-WR-CALNAME:UDC Suisse
BEGIN:VEVENT
CREATED:20230207T060612Z
UID:100909
DTEND:20230216T203000
DTSTART:20230216T183000
DTSTAMP:20260420T194811Z
LOCATION:Radio Télévision Suisse (RTS)\, Quai Ernest-Ansermet 20\, 1205 Genève
DESCRIPTION:Raymond Loretan, Président du Club Diplomatique de Genève, et André
SUMMARY:Table ronde « Quelle neutralité pour la Suisse ? »
ORGANIZER:
URL;VALUE=URI:https://www.udc.ch/actualites/agenda/table-ronde-quelle-neutralite-pour-la-suisse/
TRANSP:OPAQUE
END:VEVENT
END:VCALENDAR
