

BEGIN:VCALENDAR
VERSION:2.0
PRODID:-//UDC Suisse //NONSGML Events //EN
CALSCALE:GREGORIAN
X-WR-CALNAME:UDC Suisse
BEGIN:VEVENT
CREATED:20230313T120106Z
UID:101103
DTEND:20230404T110000
DTSTART:20230404T100000
DTSTAMP:20260420T171852Z
LOCATION:Bern\, Kursaal
DESCRIPTION:
SUMMARY:UDC proche de vous avec le Conseiller national Andreas Aebi
ORGANIZER:
URL;VALUE=URI:https://www.udc.ch/actualites/agenda/udc-proche-de-vous-avec-le-conseiller-national-aebi-andreas/
TRANSP:OPAQUE
END:VEVENT
END:VCALENDAR
