

BEGIN:VCALENDAR
VERSION:2.0
PRODID:-//UDC Suisse //NONSGML Events //EN
CALSCALE:GREGORIAN
X-WR-CALNAME:UDC Suisse
BEGIN:VEVENT
CREATED:20230313T120106Z
UID:101104
DTEND:20230321T200000
DTSTART:20230321T193000
DTSTAMP:20260421T061228Z
LOCATION:Baar\, Restaurant Sport Inn
DESCRIPTION:
SUMMARY:UDC proche de vous avec le Conseiller national Thomas Aeschi
ORGANIZER:
URL;VALUE=URI:https://www.udc.ch/actualites/agenda/udc-proche-de-vous-avec-le-conseiller-national-thomas-aeschi/
TRANSP:OPAQUE
END:VEVENT
END:VCALENDAR
