

BEGIN:VCALENDAR
VERSION:2.0
PRODID:-//UDC Suisse //NONSGML Events //EN
CALSCALE:GREGORIAN
X-WR-CALNAME:UDC Suisse
BEGIN:VEVENT
CREATED:20230313T120107Z
UID:101105
DTEND:20230330T200000
DTSTART:20230330T190000
DTSTAMP:20260421T092532Z
LOCATION:Aarburg\, Pizzeria Nonna Jo
DESCRIPTION:
SUMMARY:UDC proche de vous avec la Conseillère nationale Martina Bircher
ORGANIZER:
URL;VALUE=URI:https://www.udc.ch/actualites/agenda/udc-proche-de-vous-avec-la-conseillere-nationale-martina-bircher/
TRANSP:OPAQUE
END:VEVENT
END:VCALENDAR
