

BEGIN:VCALENDAR
VERSION:2.0
PRODID:-//UDC Suisse //NONSGML Events //EN
CALSCALE:GREGORIAN
X-WR-CALNAME:UDC Suisse
BEGIN:VEVENT
CREATED:20230313T120107Z
UID:101106
DTEND:20230309T210000
DTSTART:20230309T200000
DTSTAMP:20260421T080517Z
LOCATION:Widnau\, Restaurant Rosengarten
DESCRIPTION:
SUMMARY:UDC proche de vous avec le Conseiller national Roland Rino Büchel
ORGANIZER:
URL;VALUE=URI:https://www.udc.ch/actualites/agenda/udc-proche-de-vous-avec-le-conseiller-national-roland-rino-bu%cc%88chel/
TRANSP:OPAQUE
END:VEVENT
END:VCALENDAR
