

BEGIN:VCALENDAR
VERSION:2.0
PRODID:-//UDC Suisse //NONSGML Events //EN
CALSCALE:GREGORIAN
X-WR-CALNAME:UDC Suisse
BEGIN:VEVENT
CREATED:20230313T120107Z
UID:101108
DTEND:20230425T210000
DTSTART:20230425T200000
DTSTAMP:20260420T194321Z
LOCATION:Tavannes\, Restaurant Le Central
DESCRIPTION:
SUMMARY:UDC proche de vous avec le Conseiller national Manfred Bühler
ORGANIZER:
URL;VALUE=URI:https://www.udc.ch/actualites/agenda/udc-proche-de-vous-avec-le-conseiller-national-manfred-buhler/
TRANSP:OPAQUE
END:VEVENT
END:VCALENDAR
