

BEGIN:VCALENDAR
VERSION:2.0
PRODID:-//UDC Suisse //NONSGML Events //EN
CALSCALE:GREGORIAN
X-WR-CALNAME:UDC Suisse
BEGIN:VEVENT
CREATED:20230313T120107Z
UID:101109
DTEND:20230321T200000
DTSTART:20230321T193000
DTSTAMP:20260420T194411Z
LOCATION:Concise\, Cave Guy Cousin\, En Pradaz 2A
DESCRIPTION:
SUMMARY:UDC proche de vous avec le Conseiller national Michaël Buffat ensemble avec le Conseiller national Jean-Pierre Grin et Jacques Nicolet
ORGANIZER:
URL;VALUE=URI:https://www.udc.ch/actualites/agenda/udc-proche-de-vous-avec-le-conseiller-national-michael-buffat-ensemble-avec-le-conseiller-national-jean-pierre-grin-et-jacques-nicolet/
TRANSP:OPAQUE
END:VEVENT
END:VCALENDAR
