

BEGIN:VCALENDAR
VERSION:2.0
PRODID:-//UDC Suisse //NONSGML Events //EN
CALSCALE:GREGORIAN
X-WR-CALNAME:UDC Suisse
BEGIN:VEVENT
CREATED:20230313T120108Z
UID:101110
DTEND:20230320T200000
DTSTART:20230320T193000
DTSTAMP:20260420T213553Z
LOCATION:Aarau\, Gasthof Schützen
DESCRIPTION:
SUMMARY:UDC proche de vous avec le Conseiller national Thomas Burgherr ensemble avec le Conseiller national Alois Huber\, Andreas Glarner et Benjamin Giezendanner
ORGANIZER:
URL;VALUE=URI:https://www.udc.ch/actualites/agenda/udc-proche-de-vous-avec-le-conseiller-national-thomas-burgherr-ensemble-avec-le-conseiller-national-alois-huber-andreas-glarner-et-benjamin-giezendanner/
TRANSP:OPAQUE
END:VEVENT
END:VCALENDAR
