

BEGIN:VCALENDAR
VERSION:2.0
PRODID:-//UDC Suisse //NONSGML Events //EN
CALSCALE:GREGORIAN
X-WR-CALNAME:UDC Suisse
BEGIN:VEVENT
CREATED:20230313T120108Z
UID:101111
DTEND:20230321T200000
DTSTART:20230321T190000
DTSTAMP:20260420T171304Z
LOCATION:Berikon\, Hotel Restaurant Stalden
DESCRIPTION:
SUMMARY:UDC proche de vous avec le Conseiller national Thomas Burgherr ensemble avec la Conseillère nationale Stefanie Heimgartner
ORGANIZER:
URL;VALUE=URI:https://www.udc.ch/actualites/agenda/udc-proche-de-vous-avec-le-conseiller-national-thomas-burgherr-ensemble-avec-la-conseillere-nationale-stefanie-heimgartner/
TRANSP:OPAQUE
END:VEVENT
END:VCALENDAR
