

BEGIN:VCALENDAR
VERSION:2.0
PRODID:-//UDC Suisse //NONSGML Events //EN
CALSCALE:GREGORIAN
X-WR-CALNAME:UDC Suisse
BEGIN:VEVENT
CREATED:20230313T120108Z
UID:101112
DTEND:20230330T190000
DTSTART:20230330T183000
DTSTAMP:20260420T193554Z
LOCATION:Lugano\, Bar Cento
DESCRIPTION:
SUMMARY:UDC proche de vous avec le Conseiller aux Etats Marco Chiesa ensemble avec le Conseiller national Piero Marchesi
ORGANIZER:
URL;VALUE=URI:https://www.udc.ch/actualites/agenda/udc-proche-de-vous-avec-le-conseiller-aux-etats-marco-chiesa-ensemble-avec-le-conseiller-national-piero-marchesi/
TRANSP:OPAQUE
END:VEVENT
END:VCALENDAR
