

BEGIN:VCALENDAR
VERSION:2.0
PRODID:-//UDC Suisse //NONSGML Events //EN
CALSCALE:GREGORIAN
X-WR-CALNAME:UDC Suisse
BEGIN:VEVENT
CREATED:20230313T120108Z
UID:101113
DTEND:20230312T140000
DTSTART:20230312T130000
DTSTAMP:20260420T213630Z
LOCATION:Hoch-Ybrig\, Restaurant Fuederegg
DESCRIPTION:
SUMMARY:UDC proche de vous avec le Conseiller national Marcel Dettling ensemble avec le Conseiller national Pirmin Schwander
ORGANIZER:
URL;VALUE=URI:https://www.udc.ch/actualites/agenda/udc-proche-de-vous-avec-le-conseiller-national-marcel-dettling-ensemble-avec-le-conseiller-national-pirmin-schwander/
TRANSP:OPAQUE
END:VEVENT
END:VCALENDAR
