

BEGIN:VCALENDAR
VERSION:2.0
PRODID:-//UDC Suisse //NONSGML Events //EN
CALSCALE:GREGORIAN
X-WR-CALNAME:UDC Suisse
BEGIN:VEVENT
CREATED:20230313T120108Z
UID:101115
DTEND:20230318T110000
DTSTART:20230318T100000
DTSTAMP:20260421T004303Z
LOCATION:Luzern\, Treffpunkt vor dem Rathaus in der Altstadt
DESCRIPTION:
SUMMARY:UDC proche de vous avec la Conseillère nationale Yvette Estermann
ORGANIZER:
URL;VALUE=URI:https://www.udc.ch/actualites/agenda/udc-proche-de-vous-avec-la-conseillere-nationale-yvette-estermann/
TRANSP:OPAQUE
END:VEVENT
END:VCALENDAR
