

BEGIN:VCALENDAR
VERSION:2.0
PRODID:-//UDC Suisse //NONSGML Events //EN
CALSCALE:GREGORIAN
X-WR-CALNAME:UDC Suisse
BEGIN:VEVENT
CREATED:20230313T120108Z
UID:101116
DTEND:20230327T110000
DTSTART:20230327T100000
DTSTAMP:20260421T004217Z
LOCATION:Elgg\, Restaurant Obertor
DESCRIPTION:
SUMMARY:UDC proche de vous avec le Conseiller national Benjamin Fischer ensemble avec la Conseillère nationale Therese Schläpfer
ORGANIZER:
URL;VALUE=URI:https://www.udc.ch/actualites/agenda/udc-proche-de-vous-avec-le-conseiller-national-benjamin-fischer-ensemble-avec-la-conseillere-nationale-therese-schlapfer/
TRANSP:OPAQUE
END:VEVENT
END:VCALENDAR
