

BEGIN:VCALENDAR
VERSION:2.0
PRODID:-//UDC Suisse //NONSGML Events //EN
CALSCALE:GREGORIAN
X-WR-CALNAME:UDC Suisse
BEGIN:VEVENT
CREATED:20230313T120108Z
UID:101117
DTEND:20230318T110000
DTSTART:20230318T100000
DTSTAMP:20260421T112741Z
LOCATION:Ebnat-Kappel\, Landgasthaus Sonne\, Haus der Freiheit\, Wintersberg
DESCRIPTION:
SUMMARY:UDC proche de vous avec la Conseillère nationale Esther Friedli
ORGANIZER:
URL;VALUE=URI:https://www.udc.ch/actualites/agenda/udc-proche-de-vous-avec-la-conseillere-nationale-esther-friedli/
TRANSP:OPAQUE
END:VEVENT
END:VCALENDAR
