

BEGIN:VCALENDAR
VERSION:2.0
PRODID:-//UDC Suisse //NONSGML Events //EN
CALSCALE:GREGORIAN
X-WR-CALNAME:UDC Suisse
BEGIN:VEVENT
CREATED:20230313T120108Z
UID:101118
DTEND:20230321T200000
DTSTART:20230321T193000
DTSTAMP:20260421T145754Z
LOCATION:Schüpfen\, Halle 9A\, Lyssstrasse 9
DESCRIPTION:
SUMMARY:UDC proche de vous avec le Conseiller national Andreas Gafner
ORGANIZER:
URL;VALUE=URI:https://www.udc.ch/actualites/agenda/udc-proche-de-vous-avec-le-conseiller-national-andreas-gafner/
TRANSP:OPAQUE
END:VEVENT
END:VCALENDAR
