

BEGIN:VCALENDAR
VERSION:2.0
PRODID:-//UDC Suisse //NONSGML Events //EN
CALSCALE:GREGORIAN
X-WR-CALNAME:UDC Suisse
BEGIN:VEVENT
CREATED:20230313T120108Z
UID:101119
DTEND:20230403T210000
DTSTART:20230403T200000
DTSTAMP:20260421T042328Z
LOCATION:Schwarzenburg\, Freiburgstrasse 100\, Pöschensaal
DESCRIPTION:
SUMMARY:UDC proche de vous avec le Conseiller national Andreas Gafner
ORGANIZER:
URL;VALUE=URI:https://www.udc.ch/actualites/agenda/udc-proche-de-vous-avec-le-conseiller-national-andreas-gafner-2/
TRANSP:OPAQUE
END:VEVENT
END:VCALENDAR
