

BEGIN:VCALENDAR
VERSION:2.0
PRODID:-//UDC Suisse //NONSGML Events //EN
CALSCALE:GREGORIAN
X-WR-CALNAME:UDC Suisse
BEGIN:VEVENT
CREATED:20230313T120108Z
UID:101120
DTEND:20230420T210000
DTSTART:20230420T200000
DTSTAMP:20260421T112806Z
LOCATION:Reconvillier\, a la Lingotière\, Rue du Bruye SA
DESCRIPTION:
SUMMARY:UDC proche de vous avec le Conseiller national Andreas Gafner
ORGANIZER:
URL;VALUE=URI:https://www.udc.ch/actualites/agenda/udc-proche-de-vous-avec-le-conseiller-national-andreas-gafner-3/
TRANSP:OPAQUE
END:VEVENT
END:VCALENDAR
